<?xml version="1.0"?>
<Capabilities xmlns="http://www.opengis.net/wmts/1.0" xmlns:ows="http://www.opengis.net/ows/1.1" xmlns:xlink="http://www.w3.org/1999/xlink" xmlns:xsi="http://www.w3.org/2001/XMLSchema-instance" xmlns:gml="http://www.opengis.net/gml" xsi:schemaLocation="http://www.opengis.net/wmts/1.0 http://schemas.opengis.net/wmts/1.0/wmtsGetCapabilities_response.xsd" version="1.0.0">
  <ows:ServiceIdentification>
    <ows:Title>WMTS XPlanung</ows:Title>
    <ows:Abstract>WMTS zur Visualisierung von XPlanungsdaten</ows:Abstract>
    <ows:Keywords>
        <ows:Keyword vocabulary="GEMET">land use</ows:Keyword>
        <ows:Keyword vocabulary="GEMET">land use plan</ows:Keyword>
        <ows:Keyword>Bodennutzung</ows:Keyword>
        <ows:Keyword>XPlanung</ows:Keyword>
    </ows:Keywords>
    <ows:ServiceType>OGC WMTS</ows:ServiceType>
    <ows:ServiceTypeVersion>1.0.0</ows:ServiceTypeVersion>
    <ows:Fees></ows:Fees>
    <ows:AccessConstraints></ows:AccessConstraints>
  </ows:ServiceIdentification>
  <ows:ServiceProvider>
    <ows:ProviderName></ows:ProviderName>
    <ows:ProviderSite xlink:href=""/>
    <ows:ServiceContact>
      <ows:IndividualName></ows:IndividualName>
      <ows:PositionName></ows:PositionName>
      <ows:ContactInfo>
        <ows:Phone>
          <ows:Voice></ows:Voice>
          <ows:Facsimile></ows:Facsimile>
        </ows:Phone>
        <ows:Address>
          <ows:DeliveryPoint></ows:DeliveryPoint>
          <ows:City></ows:City>
          <ows:AdministrativeArea></ows:AdministrativeArea>
          <ows:PostalCode></ows:PostalCode>
          <ows:Country></ows:Country>
          <ows:ElectronicMailAddress></ows:ElectronicMailAddress>
        </ows:Address>
      </ows:ContactInfo>
    </ows:ServiceContact>
  </ows:ServiceProvider>
  <ows:OperationsMetadata>
    <ows:Operation name="GetCapabilities">
      <ows:DCP>
        <ows:HTTP>
          <ows:Get xlink:href="https://latlon.xplan.integration.diplanung.de/xplan-mapproxy/wmts?">
            <ows:Constraint name="GetEncoding">
              <ows:AllowedValues>
                <ows:Value>RESTful</ows:Value>
              </ows:AllowedValues>
            </ows:Constraint>
          </ows:Get>
        </ows:HTTP>
      </ows:DCP>
    </ows:Operation>
    <ows:Operation name="GetTile">
      <ows:DCP>
        <ows:HTTP>
          <ows:Get xlink:href="https://latlon.xplan.integration.diplanung.de/xplan-mapproxy/wmts?">
            <ows:Constraint name="GetEncoding">
              <ows:AllowedValues>
                <ows:Value>RESTful</ows:Value>
              </ows:AllowedValues>
            </ows:Constraint>
          </ows:Get>
        </ows:HTTP>
      </ows:DCP>
    </ows:Operation>
    <ows:Operation name="GetFeatureInfo">
      <ows:DCP>
        <ows:HTTP>
          <ows:Get xlink:href="https://latlon.xplan.integration.diplanung.de/xplan-mapproxy/wmts?">
            <ows:Constraint name="GetEncoding">
              <ows:AllowedValues>
                <ows:Value>RESTful</ows:Value>
              </ows:AllowedValues>
            </ows:Constraint>
          </ows:Get>
        </ows:HTTP>
      </ows:DCP>
    </ows:Operation>
  </ows:OperationsMetadata>
  <Contents>
    <Layer>
      <ows:Title>Rasterdarstellung der Bebauungspläne</ows:Title>
      <ows:Abstract></ows:Abstract>
      <ows:WGS84BoundingBox>
        <ows:LowerCorner>5.98865807458 47.3024876979</ows:LowerCorner>
        <ows:UpperCorner>15.0169958839 54.983104153</ows:UpperCorner>
      </ows:WGS84BoundingBox>
      <ows:Identifier>bp_raster</ows:Identifier>
      <Style isDefault="true">
        <ows:Identifier>default</ows:Identifier>
      </Style>
      <Format>image/png</Format>
      <TileMatrixSetLink>
        <TileMatrixSet>gdi_de_25832_bp_so</TileMatrixSet>
      </TileMatrixSetLink>
      <TileMatrixSetLink>
        <TileMatrixSet>GoogleMapsCompatible_bp_so</TileMatrixSet>
      </TileMatrixSetLink>
      <ResourceURL format="image/png" resourceType="tile"
        template="https://latlon.xplan.integration.diplanung.de/xplan-mapproxy/wmts/bp_raster/{TileMatrixSet}/{TileMatrix}/{TileCol}/{TileRow}.png"/>
    </Layer>
    <Layer>
      <ows:Title>Vektordarstellung der Bebauungspläne</ows:Title>
      <ows:Abstract></ows:Abstract>
      <ows:WGS84BoundingBox>
        <ows:LowerCorner>5.98865807458 47.3024876979</ows:LowerCorner>
        <ows:UpperCorner>15.0169958839 54.983104153</ows:UpperCorner>
      </ows:WGS84BoundingBox>
      <ows:Identifier>bp_objekte</ows:Identifier>
      <Style isDefault="true">
        <ows:Identifier>default</ows:Identifier>
      </Style>
      <Format>image/png</Format>
      <TileMatrixSetLink>
        <TileMatrixSet>gdi_de_25832_bp_so</TileMatrixSet>
      </TileMatrixSetLink>
      <TileMatrixSetLink>
        <TileMatrixSet>GoogleMapsCompatible_bp_so</TileMatrixSet>
      </TileMatrixSetLink>
      <ResourceURL format="image/png" resourceType="tile"
        template="https://latlon.xplan.integration.diplanung.de/xplan-mapproxy/wmts/bp_objekte/{TileMatrixSet}/{TileMatrix}/{TileCol}/{TileRow}.png"/>
    </Layer>
    <Layer>
      <ows:Title>Rasterdarstellung der Flächennutzungspläne</ows:Title>
      <ows:Abstract></ows:Abstract>
      <ows:WGS84BoundingBox>
        <ows:LowerCorner>5.98865807458 47.3024876979</ows:LowerCorner>
        <ows:UpperCorner>15.0169958839 54.983104153</ows:UpperCorner>
      </ows:WGS84BoundingBox>
      <ows:Identifier>fp_raster</ows:Identifier>
      <Style isDefault="true">
        <ows:Identifier>default</ows:Identifier>
      </Style>
      <Format>image/png</Format>
      <TileMatrixSetLink>
        <TileMatrixSet>gdi_de_25832_fp</TileMatrixSet>
      </TileMatrixSetLink>
      <TileMatrixSetLink>
        <TileMatrixSet>GoogleMapsCompatible_fp</TileMatrixSet>
      </TileMatrixSetLink>
      <ResourceURL format="image/png" resourceType="tile"
        template="https://latlon.xplan.integration.diplanung.de/xplan-mapproxy/wmts/fp_raster/{TileMatrixSet}/{TileMatrix}/{TileCol}/{TileRow}.png"/>
    </Layer>
    <Layer>
      <ows:Title>Vektordarstellung der Flächennutzungspläne</ows:Title>
      <ows:Abstract></ows:Abstract>
      <ows:WGS84BoundingBox>
        <ows:LowerCorner>5.98865807458 47.3024876979</ows:LowerCorner>
        <ows:UpperCorner>15.0169958839 54.983104153</ows:UpperCorner>
      </ows:WGS84BoundingBox>
      <ows:Identifier>fp_objekte</ows:Identifier>
      <Style isDefault="true">
        <ows:Identifier>default</ows:Identifier>
      </Style>
      <Format>image/png</Format>
      <TileMatrixSetLink>
        <TileMatrixSet>gdi_de_25832_fp</TileMatrixSet>
      </TileMatrixSetLink>
      <TileMatrixSetLink>
        <TileMatrixSet>GoogleMapsCompatible_fp</TileMatrixSet>
      </TileMatrixSetLink>
      <ResourceURL format="image/png" resourceType="tile"
        template="https://latlon.xplan.integration.diplanung.de/xplan-mapproxy/wmts/fp_objekte/{TileMatrixSet}/{TileMatrix}/{TileCol}/{TileRow}.png"/>
    </Layer>
    <Layer>
      <ows:Title>Rasterdarstellung der Landschaftspläne</ows:Title>
      <ows:Abstract></ows:Abstract>
      <ows:WGS84BoundingBox>
        <ows:LowerCorner>5.98865807458 47.3024876979</ows:LowerCorner>
        <ows:UpperCorner>15.0169958839 54.983104153</ows:UpperCorner>
      </ows:WGS84BoundingBox>
      <ows:Identifier>lp_raster</ows:Identifier>
      <Style isDefault="true">
        <ows:Identifier>default</ows:Identifier>
      </Style>
      <Format>image/png</Format>
      <TileMatrixSetLink>
        <TileMatrixSet>gdi_de_25832_lp_rp</TileMatrixSet>
      </TileMatrixSetLink>
      <TileMatrixSetLink>
        <TileMatrixSet>GoogleMapsCompatible_lp_rp</TileMatrixSet>
      </TileMatrixSetLink>
      <ResourceURL format="image/png" resourceType="tile"
        template="https://latlon.xplan.integration.diplanung.de/xplan-mapproxy/wmts/lp_raster/{TileMatrixSet}/{TileMatrix}/{TileCol}/{TileRow}.png"/>
    </Layer>
    <Layer>
      <ows:Title>Vektordarstellung der Landschaftspläne</ows:Title>
      <ows:Abstract></ows:Abstract>
      <ows:WGS84BoundingBox>
        <ows:LowerCorner>5.98865807458 47.3024876979</ows:LowerCorner>
        <ows:UpperCorner>15.0169958839 54.983104153</ows:UpperCorner>
      </ows:WGS84BoundingBox>
      <ows:Identifier>lp_objekte</ows:Identifier>
      <Style isDefault="true">
        <ows:Identifier>default</ows:Identifier>
      </Style>
      <Format>image/png</Format>
      <TileMatrixSetLink>
        <TileMatrixSet>gdi_de_25832_lp_rp</TileMatrixSet>
      </TileMatrixSetLink>
      <TileMatrixSetLink>
        <TileMatrixSet>GoogleMapsCompatible_lp_rp</TileMatrixSet>
      </TileMatrixSetLink>
      <ResourceURL format="image/png" resourceType="tile"
        template="https://latlon.xplan.integration.diplanung.de/xplan-mapproxy/wmts/lp_objekte/{TileMatrixSet}/{TileMatrix}/{TileCol}/{TileRow}.png"/>
    </Layer>
    <Layer>
      <ows:Title>Rasterdarstellung der Regionalpläne</ows:Title>
      <ows:Abstract></ows:Abstract>
      <ows:WGS84BoundingBox>
        <ows:LowerCorner>5.98865807458 47.3024876979</ows:LowerCorner>
        <ows:UpperCorner>15.0169958839 54.983104153</ows:UpperCorner>
      </ows:WGS84BoundingBox>
      <ows:Identifier>rp_raster</ows:Identifier>
      <Style isDefault="true">
        <ows:Identifier>default</ows:Identifier>
      </Style>
      <Format>image/png</Format>
      <TileMatrixSetLink>
        <TileMatrixSet>gdi_de_25832_lp_rp</TileMatrixSet>
      </TileMatrixSetLink>
      <TileMatrixSetLink>
        <TileMatrixSet>GoogleMapsCompatible_lp_rp</TileMatrixSet>
      </TileMatrixSetLink>
      <ResourceURL format="image/png" resourceType="tile"
        template="https://latlon.xplan.integration.diplanung.de/xplan-mapproxy/wmts/rp_raster/{TileMatrixSet}/{TileMatrix}/{TileCol}/{TileRow}.png"/>
    </Layer>
    <Layer>
      <ows:Title>Vektordarstellung der Regionalpläne</ows:Title>
      <ows:Abstract></ows:Abstract>
      <ows:WGS84BoundingBox>
        <ows:LowerCorner>5.98865807458 47.3024876979</ows:LowerCorner>
        <ows:UpperCorner>15.0169958839 54.983104153</ows:UpperCorner>
      </ows:WGS84BoundingBox>
      <ows:Identifier>rp_objekte</ows:Identifier>
      <Style isDefault="true">
        <ows:Identifier>default</ows:Identifier>
      </Style>
      <Format>image/png</Format>
      <TileMatrixSetLink>
        <TileMatrixSet>gdi_de_25832_lp_rp</TileMatrixSet>
      </TileMatrixSetLink>
      <TileMatrixSetLink>
        <TileMatrixSet>GoogleMapsCompatible_lp_rp</TileMatrixSet>
      </TileMatrixSetLink>
      <ResourceURL format="image/png" resourceType="tile"
        template="https://latlon.xplan.integration.diplanung.de/xplan-mapproxy/wmts/rp_objekte/{TileMatrixSet}/{TileMatrix}/{TileCol}/{TileRow}.png"/>
    </Layer>
    <Layer>
      <ows:Title>Rasterdarstellung der sonstigen raumbezogenen Pläne</ows:Title>
      <ows:Abstract></ows:Abstract>
      <ows:WGS84BoundingBox>
        <ows:LowerCorner>5.98865807458 47.3024876979</ows:LowerCorner>
        <ows:UpperCorner>15.0169958839 54.983104153</ows:UpperCorner>
      </ows:WGS84BoundingBox>
      <ows:Identifier>so_raster</ows:Identifier>
      <Style isDefault="true">
        <ows:Identifier>default</ows:Identifier>
      </Style>
      <Format>image/png</Format>
      <TileMatrixSetLink>
        <TileMatrixSet>gdi_de_25832_bp_so</TileMatrixSet>
      </TileMatrixSetLink>
      <TileMatrixSetLink>
        <TileMatrixSet>GoogleMapsCompatible_bp_so</TileMatrixSet>
      </TileMatrixSetLink>
      <ResourceURL format="image/png" resourceType="tile"
        template="https://latlon.xplan.integration.diplanung.de/xplan-mapproxy/wmts/so_raster/{TileMatrixSet}/{TileMatrix}/{TileCol}/{TileRow}.png"/>
    </Layer>
    <Layer>
      <ows:Title>Vektordarstellung der sonstigen raumbezogenen Pläne</ows:Title>
      <ows:Abstract></ows:Abstract>
      <ows:WGS84BoundingBox>
        <ows:LowerCorner>5.98865807458 47.3024876979</ows:LowerCorner>
        <ows:UpperCorner>15.0169958839 54.983104153</ows:UpperCorner>
      </ows:WGS84BoundingBox>
      <ows:Identifier>so_objekte</ows:Identifier>
      <Style isDefault="true">
        <ows:Identifier>default</ows:Identifier>
      </Style>
      <Format>image/png</Format>
      <TileMatrixSetLink>
        <TileMatrixSet>gdi_de_25832_bp_so</TileMatrixSet>
      </TileMatrixSetLink>
      <TileMatrixSetLink>
        <TileMatrixSet>GoogleMapsCompatible_bp_so</TileMatrixSet>
      </TileMatrixSetLink>
      <ResourceURL format="image/png" resourceType="tile"
        template="https://latlon.xplan.integration.diplanung.de/xplan-mapproxy/wmts/so_objekte/{TileMatrixSet}/{TileMatrix}/{TileCol}/{TileRow}.png"/>
    </Layer>
    <TileMatrixSet>
      <ows:Identifier>gdi_de_25832_bp_so</ows:Identifier>
      <ows:SupportedCRS>urn:ogc:def:crs:EPSG:25832</ows:SupportedCRS>
      <TileMatrix>
        <ows:Identifier>00</ows:Identifier>
        <ScaleDenominator>5000</ScaleDenominator>
        <TopLeftCorner>272364.59649115754 6109485.044960364</TopLeftCorner>
        <TileWidth>512</TileWidth>
        <TileHeight>512</TileHeight>
        <MatrixWidth>953</MatrixWidth>
        <MatrixHeight>1215</MatrixHeight>
      </TileMatrix>
      <TileMatrix>
        <ows:Identifier>01</ows:Identifier>
        <ScaleDenominator>2500</ScaleDenominator>
        <TopLeftCorner>272364.59649115754 6109485.044960364</TopLeftCorner>
        <TileWidth>512</TileWidth>
        <TileHeight>512</TileHeight>
        <MatrixWidth>1905</MatrixWidth>
        <MatrixHeight>2429</MatrixHeight>
      </TileMatrix>
      <TileMatrix>
        <ows:Identifier>02</ows:Identifier>
        <ScaleDenominator>1000</ScaleDenominator>
        <TopLeftCorner>272364.59649115754 6109485.044960364</TopLeftCorner>
        <TileWidth>512</TileWidth>
        <TileHeight>512</TileHeight>
        <MatrixWidth>4761</MatrixWidth>
        <MatrixHeight>6072</MatrixHeight>
      </TileMatrix>
      <TileMatrix>
        <ows:Identifier>03</ows:Identifier>
        <ScaleDenominator>500</ScaleDenominator>
        <TopLeftCorner>272364.59649115754 6109485.044960364</TopLeftCorner>
        <TileWidth>512</TileWidth>
        <TileHeight>512</TileHeight>
        <MatrixWidth>9521</MatrixWidth>
        <MatrixHeight>12144</MatrixHeight>
      </TileMatrix>
    </TileMatrixSet>
    <TileMatrixSet>
      <ows:Identifier>GoogleMapsCompatible_bp_so</ows:Identifier>
      <ows:SupportedCRS>urn:ogc:def:crs:EPSG:3857</ows:SupportedCRS>
      <TileMatrix>
        <ows:Identifier>00</ows:Identifier>
        <ScaleDenominator>5000</ScaleDenominator>
        <TopLeftCorner>666654.3673972717 7358587.663916558</TopLeftCorner>
        <TileWidth>512</TileWidth>
        <TileHeight>512</TileHeight>
        <MatrixWidth>1403</MatrixWidth>
        <MatrixHeight>1908</MatrixHeight>
      </TileMatrix>
      <TileMatrix>
        <ows:Identifier>01</ows:Identifier>
        <ScaleDenominator>2500</ScaleDenominator>
        <TopLeftCorner>666654.3673972717 7358587.663916558</TopLeftCorner>
        <TileWidth>512</TileWidth>
        <TileHeight>512</TileHeight>
        <MatrixWidth>2805</MatrixWidth>
        <MatrixHeight>3815</MatrixHeight>
      </TileMatrix>
      <TileMatrix>
        <ows:Identifier>02</ows:Identifier>
        <ScaleDenominator>1000</ScaleDenominator>
        <TopLeftCorner>666654.3673972717 7358587.663916558</TopLeftCorner>
        <TileWidth>512</TileWidth>
        <TileHeight>512</TileHeight>
        <MatrixWidth>7011</MatrixWidth>
        <MatrixHeight>9536</MatrixHeight>
      </TileMatrix>
      <TileMatrix>
        <ows:Identifier>03</ows:Identifier>
        <ScaleDenominator>500</ScaleDenominator>
        <TopLeftCorner>666654.3673972717 7358587.663916558</TopLeftCorner>
        <TileWidth>512</TileWidth>
        <TileHeight>512</TileHeight>
        <MatrixWidth>14022</MatrixWidth>
        <MatrixHeight>19071</MatrixHeight>
      </TileMatrix>
    </TileMatrixSet>
    <TileMatrixSet>
      <ows:Identifier>gdi_de_25832_fp</ows:Identifier>
      <ows:SupportedCRS>urn:ogc:def:crs:EPSG:25832</ows:SupportedCRS>
      <TileMatrix>
        <ows:Identifier>00</ows:Identifier>
        <ScaleDenominator>100000</ScaleDenominator>
        <TopLeftCorner>272364.59649115754 6109485.044960364</TopLeftCorner>
        <TileWidth>512</TileWidth>
        <TileHeight>512</TileHeight>
        <MatrixWidth>48</MatrixWidth>
        <MatrixHeight>61</MatrixHeight>
      </TileMatrix>
      <TileMatrix>
        <ows:Identifier>01</ows:Identifier>
        <ScaleDenominator>50000</ScaleDenominator>
        <TopLeftCorner>272364.59649115754 6109485.044960364</TopLeftCorner>
        <TileWidth>512</TileWidth>
        <TileHeight>512</TileHeight>
        <MatrixWidth>96</MatrixWidth>
        <MatrixHeight>122</MatrixHeight>
      </TileMatrix>
      <TileMatrix>
        <ows:Identifier>02</ows:Identifier>
        <ScaleDenominator>25000</ScaleDenominator>
        <TopLeftCorner>272364.59649115754 6109485.044960364</TopLeftCorner>
        <TileWidth>512</TileWidth>
        <TileHeight>512</TileHeight>
        <MatrixWidth>191</MatrixWidth>
        <MatrixHeight>243</MatrixHeight>
      </TileMatrix>
      <TileMatrix>
        <ows:Identifier>03</ows:Identifier>
        <ScaleDenominator>10000</ScaleDenominator>
        <TopLeftCorner>272364.59649115754 6109485.044960364</TopLeftCorner>
        <TileWidth>512</TileWidth>
        <TileHeight>512</TileHeight>
        <MatrixWidth>477</MatrixWidth>
        <MatrixHeight>608</MatrixHeight>
      </TileMatrix>
      <TileMatrix>
        <ows:Identifier>04</ows:Identifier>
        <ScaleDenominator>5000</ScaleDenominator>
        <TopLeftCorner>272364.59649115754 6109485.044960364</TopLeftCorner>
        <TileWidth>512</TileWidth>
        <TileHeight>512</TileHeight>
        <MatrixWidth>953</MatrixWidth>
        <MatrixHeight>1215</MatrixHeight>
      </TileMatrix>
    </TileMatrixSet>
    <TileMatrixSet>
      <ows:Identifier>GoogleMapsCompatible_fp</ows:Identifier>
      <ows:SupportedCRS>urn:ogc:def:crs:EPSG:3857</ows:SupportedCRS>
      <TileMatrix>
        <ows:Identifier>00</ows:Identifier>
        <ScaleDenominator>100000</ScaleDenominator>
        <TopLeftCorner>666654.3673972717 7358587.663916558</TopLeftCorner>
        <TileWidth>512</TileWidth>
        <TileHeight>512</TileHeight>
        <MatrixWidth>71</MatrixWidth>
        <MatrixHeight>96</MatrixHeight>
      </TileMatrix>
      <TileMatrix>
        <ows:Identifier>01</ows:Identifier>
        <ScaleDenominator>50000</ScaleDenominator>
        <TopLeftCorner>666654.3673972717 7358587.663916558</TopLeftCorner>
        <TileWidth>512</TileWidth>
        <TileHeight>512</TileHeight>
        <MatrixWidth>141</MatrixWidth>
        <MatrixHeight>191</MatrixHeight>
      </TileMatrix>
      <TileMatrix>
        <ows:Identifier>02</ows:Identifier>
        <ScaleDenominator>25000</ScaleDenominator>
        <TopLeftCorner>666654.3673972717 7358587.663916558</TopLeftCorner>
        <TileWidth>512</TileWidth>
        <TileHeight>512</TileHeight>
        <MatrixWidth>281</MatrixWidth>
        <MatrixHeight>382</MatrixHeight>
      </TileMatrix>
      <TileMatrix>
        <ows:Identifier>03</ows:Identifier>
        <ScaleDenominator>10000</ScaleDenominator>
        <TopLeftCorner>666654.3673972717 7358587.663916558</TopLeftCorner>
        <TileWidth>512</TileWidth>
        <TileHeight>512</TileHeight>
        <MatrixWidth>702</MatrixWidth>
        <MatrixHeight>954</MatrixHeight>
      </TileMatrix>
      <TileMatrix>
        <ows:Identifier>04</ows:Identifier>
        <ScaleDenominator>5000</ScaleDenominator>
        <TopLeftCorner>666654.3673972717 7358587.663916558</TopLeftCorner>
        <TileWidth>512</TileWidth>
        <TileHeight>512</TileHeight>
        <MatrixWidth>1403</MatrixWidth>
        <MatrixHeight>1908</MatrixHeight>
      </TileMatrix>
    </TileMatrixSet>
    <TileMatrixSet>
      <ows:Identifier>gdi_de_25832_lp_rp</ows:Identifier>
      <ows:SupportedCRS>urn:ogc:def:crs:EPSG:25832</ows:SupportedCRS>
      <TileMatrix>
        <ows:Identifier>00</ows:Identifier>
        <ScaleDenominator>100000</ScaleDenominator>
        <TopLeftCorner>272364.59649115754 6109485.044960364</TopLeftCorner>
        <TileWidth>512</TileWidth>
        <TileHeight>512</TileHeight>
        <MatrixWidth>48</MatrixWidth>
        <MatrixHeight>61</MatrixHeight>
      </TileMatrix>
      <TileMatrix>
        <ows:Identifier>01</ows:Identifier>
        <ScaleDenominator>75000</ScaleDenominator>
        <TopLeftCorner>272364.59649115754 6109485.044960364</TopLeftCorner>
        <TileWidth>512</TileWidth>
        <TileHeight>512</TileHeight>
        <MatrixWidth>64</MatrixWidth>
        <MatrixHeight>81</MatrixHeight>
      </TileMatrix>
      <TileMatrix>
        <ows:Identifier>02</ows:Identifier>
        <ScaleDenominator>50000</ScaleDenominator>
        <TopLeftCorner>272364.59649115754 6109485.044960364</TopLeftCorner>
        <TileWidth>512</TileWidth>
        <TileHeight>512</TileHeight>
        <MatrixWidth>96</MatrixWidth>
        <MatrixHeight>122</MatrixHeight>
      </TileMatrix>
    </TileMatrixSet>
    <TileMatrixSet>
      <ows:Identifier>GoogleMapsCompatible_lp_rp</ows:Identifier>
      <ows:SupportedCRS>urn:ogc:def:crs:EPSG:3857</ows:SupportedCRS>
      <TileMatrix>
        <ows:Identifier>00</ows:Identifier>
        <ScaleDenominator>100000</ScaleDenominator>
        <TopLeftCorner>666654.3673972717 7358587.663916558</TopLeftCorner>
        <TileWidth>512</TileWidth>
        <TileHeight>512</TileHeight>
        <MatrixWidth>71</MatrixWidth>
        <MatrixHeight>96</MatrixHeight>
      </TileMatrix>
      <TileMatrix>
        <ows:Identifier>01</ows:Identifier>
        <ScaleDenominator>75000</ScaleDenominator>
        <TopLeftCorner>666654.3673972717 7358587.663916558</TopLeftCorner>
        <TileWidth>512</TileWidth>
        <TileHeight>512</TileHeight>
        <MatrixWidth>94</MatrixWidth>
        <MatrixHeight>128</MatrixHeight>
      </TileMatrix>
      <TileMatrix>
        <ows:Identifier>02</ows:Identifier>
        <ScaleDenominator>50000</ScaleDenominator>
        <TopLeftCorner>666654.3673972717 7358587.663916558</TopLeftCorner>
        <TileWidth>512</TileWidth>
        <TileHeight>512</TileHeight>
        <MatrixWidth>141</MatrixWidth>
        <MatrixHeight>191</MatrixHeight>
      </TileMatrix>
    </TileMatrixSet>
  </Contents>
  <ServiceMetadataURL xlink:href="https://latlon.xplan.integration.diplanung.de/xplan-mapproxy/wmts/1.0.0/WMTSCapabilities.xml"/>
</Capabilities>